BEGIN:VCALENDAR
VERSION:2.0
PRODID:-//ACG//Events//EN
CALSCALE:GREGORIAN
METHOD:PUBLISH
BEGIN:VTIMEZONE
TZID:America/New_York
BEGIN:STANDARD
DTSTART:19701025T060000
TZOFFSETTO:-0500
TZOFFSETFROM:-0400
RRULE:FREQ=YEARLY;BYMONTH=11;BYDAY=1SU
END:STANDARD
BEGIN:DAYLIGHT
DTSTART:19700426T070000
TZOFFSETTO:-0400
TZOFFSETFROM:-0500
RRULE:FREQ=YEARLY;BYMONTH=3;BYDAY=2SU
END:DAYLIGHT
END:VTIMEZONE
BEGIN:VEVENT
UID:16e30322-4b67-4ac3-80b5-504b59f3608e
DTSTART;TZID=America/New_York:20190328T153000
DTEND;TZID=America/New_York:20190328T190000
STATUS:CONFIRMED
SUMMARY:M&A Outlook Conference 2019
DESCRIPTION:
LOCATION:The UMass Club Boston\n1 Beacon Street\nBoston\\, MA 02108
URL:https://www.acg.org/boston/events/ma-outlook-conference-2019
DTSTAMP:20260421T164717Z
END:VEVENT
END:VCALENDAR
