BEGIN:VCALENDAR
VERSION:2.0
PRODID:-//ACG//Events//EN
CALSCALE:GREGORIAN
METHOD:PUBLISH
BEGIN:VTIMEZONE
TZID:America/New_York
BEGIN:STANDARD
DTSTART:19701025T060000
TZOFFSETTO:-0500
TZOFFSETFROM:-0400
RRULE:FREQ=YEARLY;BYMONTH=11;BYDAY=1SU
END:STANDARD
BEGIN:DAYLIGHT
DTSTART:19700426T070000
TZOFFSETTO:-0400
TZOFFSETFROM:-0500
RRULE:FREQ=YEARLY;BYMONTH=3;BYDAY=2SU
END:DAYLIGHT
END:VTIMEZONE
BEGIN:VEVENT
UID:f6a49671-5f49-4952-be01-bdae2b21b9c4
DTSTART;TZID=America/New_York:20190606T080000
DTEND;TZID=America/New_York:20190606T114500
STATUS:CONFIRMED
SUMMARY:Value Creation 2019
DESCRIPTION:
LOCATION:Infor\n641 6th Avenue\nNew York\\, NY 10011
URL:https://www.acg.org/nyc/events/value-creation-2019
DTSTAMP:20260423T195454Z
END:VEVENT
END:VCALENDAR
