BEGIN:VCALENDAR
VERSION:2.0
PRODID:-//ACG//Events//EN
CALSCALE:GREGORIAN
METHOD:PUBLISH
BEGIN:VTIMEZONE
TZID:America/New_York
BEGIN:STANDARD
DTSTART:19701025T060000
TZOFFSETTO:-0500
TZOFFSETFROM:-0400
RRULE:FREQ=YEARLY;BYMONTH=11;BYDAY=1SU
END:STANDARD
BEGIN:DAYLIGHT
DTSTART:19700426T070000
TZOFFSETTO:-0400
TZOFFSETFROM:-0500
RRULE:FREQ=YEARLY;BYMONTH=3;BYDAY=2SU
END:DAYLIGHT
END:VTIMEZONE
BEGIN:VEVENT
UID:8cf69d30-4d22-4be9-9830-02510b8230d3
DTSTART;TZID=America/New_York:20190327T113000
DTEND;TZID=America/New_York:20190329T130000
STATUS:CONFIRMED
SUMMARY:ACG CIN: March Member Lunch
DESCRIPTION:
LOCATION:Hyatt Regency Cincinnati\n151 West 5th Street\nCincinnati\\, 
 OH 45202
URL:https://www.acg.org/cincinnati/events/acg-cin-march-member-lunch
DTSTAMP:20260422T231802Z
END:VEVENT
END:VCALENDAR
