BEGIN:VCALENDAR
VERSION:2.0
PRODID:-//ACG//Events//EN
CALSCALE:GREGORIAN
METHOD:PUBLISH
BEGIN:VTIMEZONE
TZID:America/Chicago
BEGIN:STANDARD
DTSTART:19701025T070000
TZOFFSETTO:-0600
TZOFFSETFROM:-0500
RRULE:FREQ=YEARLY;BYMONTH=11;BYDAY=1SU
END:STANDARD
BEGIN:DAYLIGHT
DTSTART:19700426T080000
TZOFFSETTO:-0500
TZOFFSETFROM:-0600
RRULE:FREQ=YEARLY;BYMONTH=3;BYDAY=2SU
END:DAYLIGHT
END:VTIMEZONE
BEGIN:VEVENT
UID:b0c6d989-40ea-4efc-8010-d43ced2c62cd
DTSTART;TZID=America/Chicago:20190326T113000
DTEND;TZID=America/Chicago:20190326T130000
STATUS:CONFIRMED
SUMMARY:ACG in San Antonio on 3/26/19: Dale Tremblay\, President & CEO
  at C. H. Guenther & Son
DESCRIPTION:
LOCATION:The Plaza Club - 100 W. Houston St. Suite 2100\n \nSan Antoni
 o\\, TX 78205
URL:https://www.acg.org/asa/events/acg-san-antonio-32619-dale-tremblay
 -president-ceo-c-h-guenther-son
DTSTAMP:20260421T164839Z
END:VEVENT
END:VCALENDAR
