BEGIN:VCALENDAR
VERSION:2.0
PRODID:-//ACG//Events//EN
CALSCALE:GREGORIAN
METHOD:PUBLISH
BEGIN:VTIMEZONE
TZID:America/New_York
BEGIN:STANDARD
DTSTART:19701025T060000
TZOFFSETTO:-0500
TZOFFSETFROM:-0400
RRULE:FREQ=YEARLY;BYMONTH=11;BYDAY=1SU
END:STANDARD
BEGIN:DAYLIGHT
DTSTART:19700426T070000
TZOFFSETTO:-0400
TZOFFSETFROM:-0500
RRULE:FREQ=YEARLY;BYMONTH=3;BYDAY=2SU
END:DAYLIGHT
END:VTIMEZONE
BEGIN:VEVENT
UID:34404050-c6d5-459f-ba2a-e9d28d57d6e7
DTSTART;TZID=America/New_York:20190514T000000
DTEND;TZID=America/New_York:20190514T000000
STATUS:CONFIRMED
SUMMARY:13th Annual SMART Awards
DESCRIPTION:
LOCATION:The Alfond Inn\n300 East New England Avenue\nWinter Park\\, F
 L 32789
URL:https://www.acg.org/orlando/events/13th-annual-smart-awards
DTSTAMP:20260421T162031Z
END:VEVENT
END:VCALENDAR
