BEGIN:VCALENDAR
VERSION:2.0
PRODID:-//ACG//Events//EN
CALSCALE:GREGORIAN
METHOD:PUBLISH
BEGIN:VTIMEZONE
TZID:America/Los_Angeles
BEGIN:STANDARD
DTSTART:19701025T090000
TZOFFSETTO:-0800
TZOFFSETFROM:-0700
RRULE:FREQ=YEARLY;BYMONTH=11;BYDAY=1SU
END:STANDARD
BEGIN:DAYLIGHT
DTSTART:19700426T100000
TZOFFSETTO:-0700
TZOFFSETFROM:-0800
RRULE:FREQ=YEARLY;BYMONTH=3;BYDAY=2SU
END:DAYLIGHT
END:VTIMEZONE
BEGIN:VEVENT
UID:28930675-22b6-49f5-9cd0-230fb2527ec4
DTSTART;TZID=America/Los_Angeles:20190724T170000
DTEND;TZID=America/Los_Angeles:20190724T200000
STATUS:CONFIRMED
SUMMARY:ACGLA Investment Banking Trends - July 24th 2019
DESCRIPTION:
LOCATION:Montage Hotel Beverly Hills\n225 North Canon Drive\nBeverly H
 ills\\, CA 90210
URL:https://www.acg.org/los-angeles/events/acgla-investment-banking-tr
 ends-july-24th-2019
DTSTAMP:20260422T075751Z
END:VEVENT
END:VCALENDAR
