BEGIN:VCALENDAR
VERSION:2.0
PRODID:-//ACG//Events//EN
CALSCALE:GREGORIAN
METHOD:PUBLISH
BEGIN:VTIMEZONE
TZID:America/Los_Angeles
BEGIN:STANDARD
DTSTART:19701025T090000
TZOFFSETTO:-0800
TZOFFSETFROM:-0700
RRULE:FREQ=YEARLY;BYMONTH=11;BYDAY=1SU
END:STANDARD
BEGIN:DAYLIGHT
DTSTART:19700426T100000
TZOFFSETTO:-0700
TZOFFSETFROM:-0800
RRULE:FREQ=YEARLY;BYMONTH=3;BYDAY=2SU
END:DAYLIGHT
END:VTIMEZONE
BEGIN:VEVENT
UID:db28d4d1-aab4-467f-804c-9236aa269578
DTSTART;TZID=America/Los_Angeles:20190529T170000
DTEND;TZID=America/Los_Angeles:20190529T190000
STATUS:CONFIRMED
SUMMARY:ACG Seattle Women’s Networking Event
DESCRIPTION:
LOCATION:Knack Coworking\n2132 3rd Avenue\nSeattle\\, WA 98121
URL:https://www.acg.org/seattle/events/acg-seattle-womens-networking-event
DTSTAMP:20260421T181747Z
END:VEVENT
END:VCALENDAR
