BEGIN:VCALENDAR
VERSION:2.0
PRODID:-//ACG//Events//EN
CALSCALE:GREGORIAN
METHOD:PUBLISH
BEGIN:VTIMEZONE
TZID:America/Los_Angeles
BEGIN:STANDARD
DTSTART:19701025T090000
TZOFFSETTO:-0800
TZOFFSETFROM:-0700
RRULE:FREQ=YEARLY;BYMONTH=11;BYDAY=1SU
END:STANDARD
BEGIN:DAYLIGHT
DTSTART:19700426T100000
TZOFFSETTO:-0700
TZOFFSETFROM:-0800
RRULE:FREQ=YEARLY;BYMONTH=3;BYDAY=2SU
END:DAYLIGHT
END:VTIMEZONE
BEGIN:VEVENT
UID:4810a0b2-fa7c-40df-99df-01b8cb4598e7
DTSTART;TZID=America/Los_Angeles:20190806T173000
DTEND;TZID=America/Los_Angeles:20190806T193000
STATUS:CONFIRMED
SUMMARY:CDO Roundtable - August 2019
DESCRIPTION:
LOCATION:Baker Botts LLP\n1001 Page Mill Road\nPalo Alto\\, CA 94304
URL:https://www.acg.org/sanfrancisco/events/cdo-roundtable-august-2019
DTSTAMP:20260422T080959Z
END:VEVENT
END:VCALENDAR
