BEGIN:VCALENDAR
VERSION:2.0
PRODID:-//ACG//Events//EN
CALSCALE:GREGORIAN
METHOD:PUBLISH
BEGIN:VTIMEZONE
TZID:America/New_York
BEGIN:STANDARD
DTSTART:19701025T060000
TZOFFSETTO:-0500
TZOFFSETFROM:-0400
RRULE:FREQ=YEARLY;BYMONTH=11;BYDAY=1SU
END:STANDARD
BEGIN:DAYLIGHT
DTSTART:19700426T070000
TZOFFSETTO:-0400
TZOFFSETFROM:-0500
RRULE:FREQ=YEARLY;BYMONTH=3;BYDAY=2SU
END:DAYLIGHT
END:VTIMEZONE
BEGIN:VEVENT
UID:33605fe7-fff1-4b32-adac-4c7091823594
DTSTART;TZID=America/New_York:20190927T120000
DTEND;TZID=America/New_York:20190927T133000
STATUS:CONFIRMED
SUMMARY:Finding Value in the Volatile Economy
DESCRIPTION:
LOCATION:Morton's the Steakhouse\n500 E West Broward Boulevard\nFort L
 auderdale\\, FL 33394
URL:https://www.acg.org/southflorida/events/finding-value-volatile-economy
DTSTAMP:20260422T050235Z
END:VEVENT
END:VCALENDAR
