BEGIN:VCALENDAR
VERSION:2.0
PRODID:-//ACG//Events//EN
CALSCALE:GREGORIAN
METHOD:PUBLISH
BEGIN:VTIMEZONE
TZID:America/Chicago
BEGIN:STANDARD
DTSTART:19701025T070000
TZOFFSETTO:-0600
TZOFFSETFROM:-0500
RRULE:FREQ=YEARLY;BYMONTH=11;BYDAY=1SU
END:STANDARD
BEGIN:DAYLIGHT
DTSTART:19700426T080000
TZOFFSETTO:-0500
TZOFFSETFROM:-0600
RRULE:FREQ=YEARLY;BYMONTH=3;BYDAY=2SU
END:DAYLIGHT
END:VTIMEZONE
BEGIN:VEVENT
UID:e595aa2b-a947-48bd-84a2-35fa0a8cd7d5
DTSTART;TZID=America/Chicago:20191104T163000
DTEND;TZID=America/Chicago:20191104T170000
STATUS:CONFIRMED
SUMMARY:Corporate Peer Group - Aligning Acquisitions to Support Corpor
 ate Strategy & Drive Growth
DESCRIPTION:
LOCATION:4950 College Blvd\, Overland Park\, KS 66211\n4950 College Bo
 ulevard\nOverland Park\\, KS 66211
URL:https://www.acg.org/kc/events/corporate-peer-group-aligning-acquis
 itions-support-corporate-strategy-drive-growth
DTSTAMP:20260423T232325Z
END:VEVENT
END:VCALENDAR
