BEGIN:VCALENDAR
VERSION:2.0
PRODID:-//ACG//Events//EN
CALSCALE:GREGORIAN
METHOD:PUBLISH
BEGIN:VTIMEZONE
TZID:America/New_York
BEGIN:STANDARD
DTSTART:19701025T060000
TZOFFSETTO:-0500
TZOFFSETFROM:-0400
RRULE:FREQ=YEARLY;BYMONTH=11;BYDAY=1SU
END:STANDARD
BEGIN:DAYLIGHT
DTSTART:19700426T070000
TZOFFSETTO:-0400
TZOFFSETFROM:-0500
RRULE:FREQ=YEARLY;BYMONTH=3;BYDAY=2SU
END:DAYLIGHT
END:VTIMEZONE
BEGIN:VEVENT
UID:21a0a193-e6c3-45dc-aaef-d0a132bc63c5
DTSTART;TZID=America/New_York:20200914T100000
DTEND;TZID=America/New_York:20200915T180000
STATUS:CONFIRMED
SUMMARY:16th Annual M&A DealSource® & Value Creation Summit
DESCRIPTION:
LOCATION:ACG Access Platform\n
URL:https://www.acg.org/nyc/events/16th-annual-ma-dealsourcer-value-cr
 eation-summit
DTSTAMP:20260422T172803Z
END:VEVENT
END:VCALENDAR
