BEGIN:VCALENDAR
VERSION:2.0
PRODID:-//ACG//Events//EN
CALSCALE:GREGORIAN
METHOD:PUBLISH
BEGIN:VTIMEZONE
TZID:America/New_York
BEGIN:STANDARD
DTSTART:19701025T060000
TZOFFSETTO:-0500
TZOFFSETFROM:-0400
RRULE:FREQ=YEARLY;BYMONTH=11;BYDAY=1SU
END:STANDARD
BEGIN:DAYLIGHT
DTSTART:19700426T070000
TZOFFSETTO:-0400
TZOFFSETFROM:-0500
RRULE:FREQ=YEARLY;BYMONTH=3;BYDAY=2SU
END:DAYLIGHT
END:VTIMEZONE
BEGIN:VEVENT
UID:1bb9c868-22c4-48f0-9a95-93313b8fe396
DTSTART;TZID=America/New_York:20191106T111500
DTEND;TZID=America/New_York:20191106T130000
STATUS:CONFIRMED
SUMMARY:Lunch & Learn: The Minority Deal: Navigating a Partial Sale
DESCRIPTION:
LOCATION:Birmingham Country Club\n1750 Saxon Drive\nBirmingham\\, MI 48009
URL:https://www.acg.org/detroit/events/lunch-learn-minority-deal-navig
 ating-partial-sale
DTSTAMP:20260421T172221Z
END:VEVENT
END:VCALENDAR
