BEGIN:VCALENDAR
VERSION:2.0
PRODID:-//ACG//Events//EN
CALSCALE:GREGORIAN
METHOD:PUBLISH
BEGIN:VTIMEZONE
TZID:America/New_York
BEGIN:STANDARD
DTSTART:19701025T060000
TZOFFSETTO:-0500
TZOFFSETFROM:-0400
RRULE:FREQ=YEARLY;BYMONTH=11;BYDAY=1SU
END:STANDARD
BEGIN:DAYLIGHT
DTSTART:19700426T070000
TZOFFSETTO:-0400
TZOFFSETFROM:-0500
RRULE:FREQ=YEARLY;BYMONTH=3;BYDAY=2SU
END:DAYLIGHT
END:VTIMEZONE
BEGIN:VEVENT
UID:41951
DTSTART;TZID=America/New_York:20191023T173000
DTEND;TZID=America/New_York:20191023T190000
STATUS:CONFIRMED
SUMMARY:ACG Cleveland Regional East featuring Matt Kaulig of LeafFilter
DESCRIPTION:
LOCATION:Cedar Creek Grille\n2101 Richmond Road\nBeachwood\\, OH 44122
URL:https://www.acg.org/cleveland/events/acg-cleveland-regional-east-f
 eaturing-matt-kaulig-leaffilter-0
DTSTAMP:20260425T184200Z
END:VEVENT
END:VCALENDAR
