BEGIN:VCALENDAR
VERSION:2.0
PRODID:-//ACG//Events//EN
CALSCALE:GREGORIAN
METHOD:PUBLISH
BEGIN:VTIMEZONE
TZID:America/New_York
BEGIN:STANDARD
DTSTART:19701025T060000
TZOFFSETTO:-0500
TZOFFSETFROM:-0400
RRULE:FREQ=YEARLY;BYMONTH=11;BYDAY=1SU
END:STANDARD
BEGIN:DAYLIGHT
DTSTART:19700426T070000
TZOFFSETTO:-0400
TZOFFSETFROM:-0500
RRULE:FREQ=YEARLY;BYMONTH=3;BYDAY=2SU
END:DAYLIGHT
END:VTIMEZONE
BEGIN:VEVENT
UID:a2c57abe-2054-4a67-833c-cb75411d8e9d
DTSTART;TZID=America/New_York:20191116T000000
DTEND;TZID=America/New_York:20191116T003000
STATUS:CONFIRMED
SUMMARY:ACG San Diego: Padres Pedal the Cause!
DESCRIPTION:
LOCATION:Petco Park\n100 Park Boulevard\nSan Diego\\, CA 92101
URL:https://www.acg.org/sandiego/events/acg-san-diego-padres-pedal-cause
DTSTAMP:20260422T171510Z
END:VEVENT
END:VCALENDAR
