BEGIN:VCALENDAR
VERSION:2.0
PRODID:-//ACG//Events//EN
CALSCALE:GREGORIAN
METHOD:PUBLISH
BEGIN:VTIMEZONE
TZID:America/New_York
BEGIN:STANDARD
DTSTART:19701025T060000
TZOFFSETTO:-0500
TZOFFSETFROM:-0400
RRULE:FREQ=YEARLY;BYMONTH=11;BYDAY=1SU
END:STANDARD
BEGIN:DAYLIGHT
DTSTART:19700426T070000
TZOFFSETTO:-0400
TZOFFSETFROM:-0500
RRULE:FREQ=YEARLY;BYMONTH=3;BYDAY=2SU
END:DAYLIGHT
END:VTIMEZONE
BEGIN:VEVENT
UID:ee8a520f-dadf-41cf-8fc1-ec41a81afa8e
DTSTART;TZID=America/New_York:20200326T173000
DTEND;TZID=America/New_York:20200326T200000
STATUS:CONFIRMED
SUMMARY:The Anatomy of a Deal - Advanced Drying Systems
DESCRIPTION:
LOCATION:University Club of Tampa\n201 North Franklin Street\nTampa\\,
  FL 33602
URL:https://www.acg.org/tampabay/events/anatomy-deal-advanced-drying-s
 ystems
DTSTAMP:20260422T171047Z
END:VEVENT
END:VCALENDAR
