BEGIN:VCALENDAR
VERSION:2.0
PRODID:-//ACG//Events//EN
CALSCALE:GREGORIAN
METHOD:PUBLISH
BEGIN:VTIMEZONE
TZID:America/Denver
BEGIN:STANDARD
DTSTART:19701025T080000
TZOFFSETTO:-0700
TZOFFSETFROM:-0600
RRULE:FREQ=YEARLY;BYMONTH=11;BYDAY=1SU
END:STANDARD
BEGIN:DAYLIGHT
DTSTART:19700426T090000
TZOFFSETTO:-0600
TZOFFSETFROM:-0700
RRULE:FREQ=YEARLY;BYMONTH=3;BYDAY=2SU
END:DAYLIGHT
END:VTIMEZONE
BEGIN:VEVENT
UID:42658
DTSTART;TZID=America/Denver:20200121T173000
DTEND;TZID=America/Denver:20200121T193000
STATUS:CONFIRMED
SUMMARY:Mile High Deal Making
DESCRIPTION:
LOCATION:Halcyon Hotel\n245 Columbine Street\nDenver\\, CO 80206
URL:https://www.acg.org/denver/events/mile-high-deal-making
DTSTAMP:20260423T180111Z
END:VEVENT
END:VCALENDAR
