BEGIN:VCALENDAR
VERSION:2.0
PRODID:-//ACG//Events//EN
CALSCALE:GREGORIAN
METHOD:PUBLISH
BEGIN:VTIMEZONE
TZID:America/New_York
BEGIN:STANDARD
DTSTART:19701025T060000
TZOFFSETTO:-0500
TZOFFSETFROM:-0400
RRULE:FREQ=YEARLY;BYMONTH=11;BYDAY=1SU
END:STANDARD
BEGIN:DAYLIGHT
DTSTART:19700426T070000
TZOFFSETTO:-0400
TZOFFSETFROM:-0500
RRULE:FREQ=YEARLY;BYMONTH=3;BYDAY=2SU
END:DAYLIGHT
END:VTIMEZONE
BEGIN:VEVENT
UID:fb7bf6a6-9941-4c46-9894-12f8b4849901
DTSTART;TZID=America/New_York:20210602T100000
DTEND;TZID=America/New_York:20210604T120000
STATUS:CONFIRMED
SUMMARY:ACG Pittsburgh 2021 Executive Women's Symposium
DESCRIPTION:
URL:https://www.acg.org/pittsburgh/events/acg-pittsburgh-2021-executiv
 e-womens-symposium
DTSTAMP:20260423T170423Z
END:VEVENT
END:VCALENDAR
