BEGIN:VCALENDAR
VERSION:2.0
PRODID:-//ACG//Events//EN
CALSCALE:GREGORIAN
METHOD:PUBLISH
BEGIN:VTIMEZONE
TZID:America/New_York
BEGIN:STANDARD
DTSTART:19701025T060000
TZOFFSETTO:-0500
TZOFFSETFROM:-0400
RRULE:FREQ=YEARLY;BYMONTH=11;BYDAY=1SU
END:STANDARD
BEGIN:DAYLIGHT
DTSTART:19700426T070000
TZOFFSETTO:-0400
TZOFFSETFROM:-0500
RRULE:FREQ=YEARLY;BYMONTH=3;BYDAY=2SU
END:DAYLIGHT
END:VTIMEZONE
BEGIN:VEVENT
UID:aae3a704-9cd7-444f-b72e-4045bf9792f5
DTSTART;TZID=America/New_York:20200220T073000
DTEND;TZID=America/New_York:20200220T100000
STATUS:CONFIRMED
SUMMARY:Aird & Berlis Seminar Panel #1: How Does Direct Investing Fit 
 Within the Mission and Objectives for Family Offices?
DESCRIPTION:
LOCATION:181 Bay St Suite 1800\, Toronto\, ON M5J 2T9\n181 Bay Street\
 nToronto\\, ON M5J 2T9
URL:https://www.acg.org/toronto/events/aird-berlis-seminar-panel-1-how
 -does-direct-investing-fit-within-mission-and
DTSTAMP:20260420T181325Z
END:VEVENT
END:VCALENDAR
