BEGIN:VCALENDAR
VERSION:2.0
PRODID:-//ACG//Events//EN
CALSCALE:GREGORIAN
METHOD:PUBLISH
BEGIN:VTIMEZONE
TZID:America/Chicago
BEGIN:STANDARD
DTSTART:19701025T070000
TZOFFSETTO:-0600
TZOFFSETFROM:-0500
RRULE:FREQ=YEARLY;BYMONTH=11;BYDAY=1SU
END:STANDARD
BEGIN:DAYLIGHT
DTSTART:19700426T080000
TZOFFSETTO:-0500
TZOFFSETFROM:-0600
RRULE:FREQ=YEARLY;BYMONTH=3;BYDAY=2SU
END:DAYLIGHT
END:VTIMEZONE
BEGIN:VEVENT
UID:6930bdc1-c6c7-48d0-bcab-c0d4b76a472a
DTSTART;TZID=America/Chicago:20200408T113000
DTEND;TZID=America/Chicago:20200408T130000
STATUS:CONFIRMED
SUMMARY:*Special Podcast Interview with Alan Knitowski of Phunware
DESCRIPTION:
LOCATION:The UT Club\n2108 Robert Dedman Drive\nAustin\\, TX 78712
URL:https://www.acg.org/asa/events/special-podcast-interview-alan-knit
 owski-phunware
DTSTAMP:20260424T172604Z
END:VEVENT
END:VCALENDAR
