BEGIN:VCALENDAR
VERSION:2.0
PRODID:-//ACG//Events//EN
CALSCALE:GREGORIAN
METHOD:PUBLISH
BEGIN:VTIMEZONE
TZID:America/Los_Angeles
BEGIN:STANDARD
DTSTART:19701025T090000
TZOFFSETTO:-0800
TZOFFSETFROM:-0700
RRULE:FREQ=YEARLY;BYMONTH=11;BYDAY=1SU
END:STANDARD
BEGIN:DAYLIGHT
DTSTART:19700426T100000
TZOFFSETTO:-0700
TZOFFSETFROM:-0800
RRULE:FREQ=YEARLY;BYMONTH=3;BYDAY=2SU
END:DAYLIGHT
END:VTIMEZONE
BEGIN:VEVENT
UID:618ddc92-35ec-4b65-8cb8-85b12c661601
DTSTART;TZID=America/Los_Angeles:20220317T170000
DTEND;TZID=America/Los_Angeles:20220317T203000
STATUS:CONFIRMED
SUMMARY:ACG OC - 19th Annual Private Equity Marketplace Deal Flow & Wi
 ne Tasting
DESCRIPTION:
LOCATION:Ritz-Carlton\nOne Ritz Carlton Drive\nDana Point\\, CA 92629
URL:https://www.acg.org/occ/events/acg-oc-19th-annual-private-equity-m
 arketplace-deal-flow-wine-tasting
DTSTAMP:20260425T153932Z
END:VEVENT
END:VCALENDAR
