BEGIN:VCALENDAR
VERSION:2.0
PRODID:-//ACG//Events//EN
CALSCALE:GREGORIAN
METHOD:PUBLISH
BEGIN:VTIMEZONE
TZID:America/Chicago
BEGIN:STANDARD
DTSTART:19701025T070000
TZOFFSETTO:-0600
TZOFFSETFROM:-0500
RRULE:FREQ=YEARLY;BYMONTH=11;BYDAY=1SU
END:STANDARD
BEGIN:DAYLIGHT
DTSTART:19700426T080000
TZOFFSETTO:-0500
TZOFFSETFROM:-0600
RRULE:FREQ=YEARLY;BYMONTH=3;BYDAY=2SU
END:DAYLIGHT
END:VTIMEZONE
BEGIN:VEVENT
UID:f05aea49-21c7-42a6-b72c-2c5fdab10ad3
DTSTART;TZID=America/Chicago:20201106T080000
DTEND;TZID=America/Chicago:20201106T093000
STATUS:CONFIRMED
SUMMARY:ACGWI: Outstanding Corporate Growth and Leadership Awards
DESCRIPTION:
URL:https://www.acg.org/wisconsin/events/acgwi-outstanding-corporate-g
 rowth-and-leadership-awards
DTSTAMP:20260422T112020Z
END:VEVENT
END:VCALENDAR
