BEGIN:VCALENDAR
VERSION:2.0
PRODID:-//ACG//Events//EN
CALSCALE:GREGORIAN
METHOD:PUBLISH
BEGIN:VTIMEZONE
TZID:America/New_York
BEGIN:STANDARD
DTSTART:19701025T060000
TZOFFSETTO:-0500
TZOFFSETFROM:-0400
RRULE:FREQ=YEARLY;BYMONTH=11;BYDAY=1SU
END:STANDARD
BEGIN:DAYLIGHT
DTSTART:19700426T070000
TZOFFSETTO:-0400
TZOFFSETFROM:-0500
RRULE:FREQ=YEARLY;BYMONTH=3;BYDAY=2SU
END:DAYLIGHT
END:VTIMEZONE
BEGIN:VEVENT
UID:a22bd073-0dd7-4f6c-9267-f955705be187
DTSTART;TZID=America/New_York:20200924T160000
DTEND;TZID=America/New_York:20200924T170000
STATUS:CONFIRMED
SUMMARY:ACG NJ / XPX NJ Virtual Beer Show & Tell Networking Event
DESCRIPTION:
LOCATION:Virtual - ACG New Jersey\n 
URL:https://www.acg.org/newjersey/events/acg-nj-xpx-nj-virtual-beer-sh
 ow-tell-networking-event
DTSTAMP:20260424T024824Z
END:VEVENT
END:VCALENDAR
