BEGIN:VCALENDAR
VERSION:2.0
PRODID:-//ACG//Events//EN
CALSCALE:GREGORIAN
METHOD:PUBLISH
BEGIN:VTIMEZONE
TZID:America/New_York
BEGIN:STANDARD
DTSTART:19701025T060000
TZOFFSETTO:-0500
TZOFFSETFROM:-0400
RRULE:FREQ=YEARLY;BYMONTH=11;BYDAY=1SU
END:STANDARD
BEGIN:DAYLIGHT
DTSTART:19700426T070000
TZOFFSETTO:-0400
TZOFFSETFROM:-0500
RRULE:FREQ=YEARLY;BYMONTH=3;BYDAY=2SU
END:DAYLIGHT
END:VTIMEZONE
BEGIN:VEVENT
UID:48409
DTSTART;TZID=America/New_York:20201020T110000
DTEND;TZID=America/New_York:20201020T123000
STATUS:CONFIRMED
SUMMARY:ACG Cleveland Presents "The Art of the Carve-Out" with Edgewat
 er Capital Partners
DESCRIPTION:
LOCATION:Virtual - Zoom\n
URL:https://www.acg.org/cleveland/events/acg-cleveland-presents-art-ca
 rve-out-edgewater-capital-partners
DTSTAMP:20260421T164822Z
END:VEVENT
END:VCALENDAR
