BEGIN:VCALENDAR
VERSION:2.0
PRODID:-//ACG//Events//EN
CALSCALE:GREGORIAN
METHOD:PUBLISH
BEGIN:VTIMEZONE
TZID:America/New_York
BEGIN:STANDARD
DTSTART:19701025T060000
TZOFFSETTO:-0500
TZOFFSETFROM:-0400
RRULE:FREQ=YEARLY;BYMONTH=11;BYDAY=1SU
END:STANDARD
BEGIN:DAYLIGHT
DTSTART:19700426T070000
TZOFFSETTO:-0400
TZOFFSETFROM:-0500
RRULE:FREQ=YEARLY;BYMONTH=3;BYDAY=2SU
END:DAYLIGHT
END:VTIMEZONE
BEGIN:VEVENT
UID:10c8eb17-02c0-4857-b99b-ef1e5b7fe86f
DTSTART;TZID=America/New_York:20201119T090000
DTEND;TZID=America/New_York:20201119T103000
STATUS:CONFIRMED
SUMMARY:ACG Boston | Virtual C-Series Breakfast: Boston Celtics' Wyc G
 rousbeck\, Lead Owner & Governor (Members Only)
DESCRIPTION:
LOCATION:ACG Boston - Zoom\n
URL:https://www.acg.org/boston/events/acg-boston-virtual-c-series-brea
 kfast-boston-celtics-wyc-grousbeck-lead-owner
DTSTAMP:20260424T172557Z
END:VEVENT
END:VCALENDAR
