BEGIN:VCALENDAR
VERSION:2.0
PRODID:-//ACG//Events//EN
CALSCALE:GREGORIAN
METHOD:PUBLISH
BEGIN:VTIMEZONE
TZID:America/New_York
BEGIN:STANDARD
DTSTART:19701025T060000
TZOFFSETTO:-0500
TZOFFSETFROM:-0400
RRULE:FREQ=YEARLY;BYMONTH=11;BYDAY=1SU
END:STANDARD
BEGIN:DAYLIGHT
DTSTART:19700426T070000
TZOFFSETTO:-0400
TZOFFSETFROM:-0500
RRULE:FREQ=YEARLY;BYMONTH=3;BYDAY=2SU
END:DAYLIGHT
END:VTIMEZONE
BEGIN:VEVENT
UID:c845ab2f-d3af-40e7-8616-538bcca19243
DTSTART;TZID=America/New_York:20210317T110000
DTEND;TZID=America/New_York:20210317T123000
STATUS:CONFIRMED
SUMMARY:ACG CIN:  The SPAC-tacular State of IPOs
DESCRIPTION:
URL:https://www.acg.org/cincinnati/events/acg-cin-spac-tacular-state-ipos
DTSTAMP:20260425T191440Z
END:VEVENT
END:VCALENDAR
