BEGIN:VCALENDAR
VERSION:2.0
PRODID:-//ACG//Events//EN
CALSCALE:GREGORIAN
METHOD:PUBLISH
BEGIN:VTIMEZONE
TZID:America/New_York
BEGIN:STANDARD
DTSTART:19701025T060000
TZOFFSETTO:-0500
TZOFFSETFROM:-0400
RRULE:FREQ=YEARLY;BYMONTH=11;BYDAY=1SU
END:STANDARD
BEGIN:DAYLIGHT
DTSTART:19700426T070000
TZOFFSETTO:-0400
TZOFFSETFROM:-0500
RRULE:FREQ=YEARLY;BYMONTH=3;BYDAY=2SU
END:DAYLIGHT
END:VTIMEZONE
BEGIN:VEVENT
UID:d26b70ff-0fdd-408b-aae3-f70ad5363405
DTSTART;TZID=America/New_York:20210429T170000
DTEND;TZID=America/New_York:20210429T183000
STATUS:CONFIRMED
SUMMARY:ACG NY VIP Family Office Series
DESCRIPTION:
LOCATION:Virtual | Login Details to Follow\n
URL:https://www.acg.org/nyc/events/acg-ny-vip-family-office-series
DTSTAMP:20260425T151030Z
END:VEVENT
END:VCALENDAR
