BEGIN:VCALENDAR
VERSION:2.0
PRODID:-//ACG//Events//EN
CALSCALE:GREGORIAN
METHOD:PUBLISH
BEGIN:VTIMEZONE
TZID:America/New_York
BEGIN:STANDARD
DTSTART:19701025T060000
TZOFFSETTO:-0500
TZOFFSETFROM:-0400
RRULE:FREQ=YEARLY;BYMONTH=11;BYDAY=1SU
END:STANDARD
BEGIN:DAYLIGHT
DTSTART:19700426T070000
TZOFFSETTO:-0400
TZOFFSETFROM:-0500
RRULE:FREQ=YEARLY;BYMONTH=3;BYDAY=2SU
END:DAYLIGHT
END:VTIMEZONE
BEGIN:VEVENT
UID:84884e91-adb6-457f-916f-00d41ba6abd7
DTSTART;TZID=America/New_York:20210519T170000
DTEND;TZID=America/New_York:20210519T183000
STATUS:CONFIRMED
SUMMARY:ACG NY VIP Family Office Series: Home Health & Hospice | Discu
 ssing Opportunities and Trends within the Home Care Landscape
DESCRIPTION:
LOCATION:Virtual | Login Details to Follow\n
URL:https://www.acg.org/nyc/events/acg-ny-vip-family-office-series-hom
 e-health-hospice-discussing-opportunities-and-trends
DTSTAMP:20260425T165037Z
END:VEVENT
END:VCALENDAR
