BEGIN:VCALENDAR
VERSION:2.0
PRODID:-//ACG//Events//EN
CALSCALE:GREGORIAN
METHOD:PUBLISH
BEGIN:VTIMEZONE
TZID:America/New_York
BEGIN:STANDARD
DTSTART:19701025T060000
TZOFFSETTO:-0500
TZOFFSETFROM:-0400
RRULE:FREQ=YEARLY;BYMONTH=11;BYDAY=1SU
END:STANDARD
BEGIN:DAYLIGHT
DTSTART:19700426T070000
TZOFFSETTO:-0400
TZOFFSETFROM:-0500
RRULE:FREQ=YEARLY;BYMONTH=3;BYDAY=2SU
END:DAYLIGHT
END:VTIMEZONE
BEGIN:VEVENT
UID:68945c92-3d51-4e4f-9463-a4af18706d22
DTSTART;TZID=America/New_York:20210318T090000
DTEND;TZID=America/New_York:20210318T103000
STATUS:CONFIRMED
SUMMARY:SPAC IPO - Merger & Acquisition –A $3.68 Billion Sucess Story
DESCRIPTION:
URL:https://www.acg.org/indiana/events/spac-ipo-merger-acquisition-368
 -billion-sucess-story
DTSTAMP:20260422T180026Z
END:VEVENT
END:VCALENDAR
