BEGIN:VCALENDAR
VERSION:2.0
PRODID:-//ACG//Events//EN
CALSCALE:GREGORIAN
METHOD:PUBLISH
BEGIN:VTIMEZONE
TZID:America/Los_Angeles
BEGIN:STANDARD
DTSTART:19701025T090000
TZOFFSETTO:-0800
TZOFFSETFROM:-0700
RRULE:FREQ=YEARLY;BYMONTH=11;BYDAY=1SU
END:STANDARD
BEGIN:DAYLIGHT
DTSTART:19700426T100000
TZOFFSETTO:-0700
TZOFFSETFROM:-0800
RRULE:FREQ=YEARLY;BYMONTH=3;BYDAY=2SU
END:DAYLIGHT
END:VTIMEZONE
BEGIN:VEVENT
UID:a0feb1d9-b55b-4987-9409-4873cdbe4216
DTSTART;TZID=America/Los_Angeles:20210429T160000
DTEND;TZID=America/Los_Angeles:20210429T173000
STATUS:CONFIRMED
SUMMARY:ACG LA | Aerospace & Defense Insights: Trends\, Outlook and M&
 A | April 29\, 2021 | 4 PM PT | VIA ZOOM
DESCRIPTION:
URL:https://www.acg.org/los-angeles/events/acg-la-aerospace-defense-in
 sights-trends-outlook-and-ma-april-29-2021-4-pm-pt
DTSTAMP:20260420T092923Z
END:VEVENT
END:VCALENDAR
