BEGIN:VCALENDAR
VERSION:2.0
PRODID:-//ACG//Events//EN
CALSCALE:GREGORIAN
METHOD:PUBLISH
BEGIN:VTIMEZONE
TZID:America/Los_Angeles
BEGIN:STANDARD
DTSTART:19701025T090000
TZOFFSETTO:-0800
TZOFFSETFROM:-0700
RRULE:FREQ=YEARLY;BYMONTH=11;BYDAY=1SU
END:STANDARD
BEGIN:DAYLIGHT
DTSTART:19700426T100000
TZOFFSETTO:-0700
TZOFFSETFROM:-0800
RRULE:FREQ=YEARLY;BYMONTH=3;BYDAY=2SU
END:DAYLIGHT
END:VTIMEZONE
BEGIN:VEVENT
UID:f4e872fa-d005-49bb-bab0-8742d3b3ad6c
DTSTART;TZID=America/Los_Angeles:20210511T110000
DTEND;TZID=America/Los_Angeles:20210511T120000
STATUS:CONFIRMED
SUMMARY:ACG San Diego Deal Maker Network
DESCRIPTION:
LOCATION:ACG San Diego - Zoom\n 
URL:https://www.acg.org/sandiego/events/acg-san-diego-deal-maker-network-3
DTSTAMP:20260423T165652Z
END:VEVENT
END:VCALENDAR
