BEGIN:VCALENDAR
VERSION:2.0
PRODID:-//ACG//Events//EN
CALSCALE:GREGORIAN
METHOD:PUBLISH
BEGIN:VTIMEZONE
TZID:America/New_York
BEGIN:STANDARD
DTSTART:19701025T060000
TZOFFSETTO:-0500
TZOFFSETFROM:-0400
RRULE:FREQ=YEARLY;BYMONTH=11;BYDAY=1SU
END:STANDARD
BEGIN:DAYLIGHT
DTSTART:19700426T070000
TZOFFSETTO:-0400
TZOFFSETFROM:-0500
RRULE:FREQ=YEARLY;BYMONTH=3;BYDAY=2SU
END:DAYLIGHT
END:VTIMEZONE
BEGIN:VEVENT
UID:a3bfb37c-7a10-4b2e-a8b0-407ae4fa5f0a
DTSTART;TZID=America/New_York:20210826T173000
DTEND;TZID=America/New_York:20210826T193000
STATUS:CONFIRMED
SUMMARY:End of the Year Networking & Sponsor Appreciation Social (memb
 ers only)
DESCRIPTION:
LOCATION:Florida Museum of Photographic Arts\n \nTampa\\, FL 33602
URL:https://www.acg.org/tampabay/events/end-year-networking-sponsor-ap
 preciation-social-members-only-0
DTSTAMP:20260420T092859Z
END:VEVENT
END:VCALENDAR
