BEGIN:VCALENDAR
VERSION:2.0
PRODID:-//ACG//Events//EN
CALSCALE:GREGORIAN
METHOD:PUBLISH
BEGIN:VTIMEZONE
TZID:America/Los_Angeles
BEGIN:STANDARD
DTSTART:19701025T090000
TZOFFSETTO:-0800
TZOFFSETFROM:-0700
RRULE:FREQ=YEARLY;BYMONTH=11;BYDAY=1SU
END:STANDARD
BEGIN:DAYLIGHT
DTSTART:19700426T100000
TZOFFSETTO:-0700
TZOFFSETFROM:-0800
RRULE:FREQ=YEARLY;BYMONTH=3;BYDAY=2SU
END:DAYLIGHT
END:VTIMEZONE
BEGIN:VEVENT
UID:031f28de-a789-492c-bf74-2f537f5d3ba0
DTSTART;TZID=America/Los_Angeles:20210722T173000
DTEND;TZID=America/Los_Angeles:20210722T193000
STATUS:CONFIRMED
SUMMARY:ACG OC - Goat Hill Tavern 2021
DESCRIPTION:
LOCATION:Goat Hill Tavern\n1830 Newport Boulevard\nCosta Mesa\\, CA 92627
URL:https://www.acg.org/occ/events/acg-oc-goat-hill-tavern-2021
DTSTAMP:20260425T140154Z
END:VEVENT
END:VCALENDAR
