BEGIN:VCALENDAR
VERSION:2.0
PRODID:-//ACG//Events//EN
CALSCALE:GREGORIAN
METHOD:PUBLISH
BEGIN:VTIMEZONE
TZID:America/Chicago
BEGIN:STANDARD
DTSTART:19701025T070000
TZOFFSETTO:-0600
TZOFFSETFROM:-0500
RRULE:FREQ=YEARLY;BYMONTH=11;BYDAY=1SU
END:STANDARD
BEGIN:DAYLIGHT
DTSTART:19700426T080000
TZOFFSETTO:-0500
TZOFFSETFROM:-0600
RRULE:FREQ=YEARLY;BYMONTH=3;BYDAY=2SU
END:DAYLIGHT
END:VTIMEZONE
BEGIN:VEVENT
UID:53152
DTSTART;TZID=America/Chicago:20210803T163000
DTEND;TZID=America/Chicago:20210803T183000
STATUS:CONFIRMED
SUMMARY:SOLD OUT - Cocktails & Deals 
DESCRIPTION:
LOCATION:Porter Kitchen & Deck\n 150 N Riverside Plaz\nChicago\\, IL 60606
URL:https://www.acg.org/chicago/events/sold-out-cocktails-deals
DTSTAMP:20260420T091202Z
END:VEVENT
END:VCALENDAR
