BEGIN:VCALENDAR
VERSION:2.0
PRODID:-//ACG//Events//EN
CALSCALE:GREGORIAN
METHOD:PUBLISH
BEGIN:VTIMEZONE
TZID:America/New_York
BEGIN:STANDARD
DTSTART:19701025T060000
TZOFFSETTO:-0500
TZOFFSETFROM:-0400
RRULE:FREQ=YEARLY;BYMONTH=11;BYDAY=1SU
END:STANDARD
BEGIN:DAYLIGHT
DTSTART:19700426T070000
TZOFFSETTO:-0400
TZOFFSETFROM:-0500
RRULE:FREQ=YEARLY;BYMONTH=3;BYDAY=2SU
END:DAYLIGHT
END:VTIMEZONE
BEGIN:VEVENT
UID:0530f9f8-b3f6-48f4-828a-aa0c22cd6947
DTSTART;TZID=America/New_York:20220330T083000
DTEND;TZID=America/New_York:20220330T100000
STATUS:CONFIRMED
SUMMARY:Family Office Breakfast Series
DESCRIPTION:
LOCATION:In-Person | Details to be Provided Upon Registration Approval\n
URL:https://www.acg.org/nyc/events/family-office-breakfast-series
DTSTAMP:20260420T092924Z
END:VEVENT
END:VCALENDAR
