BEGIN:VCALENDAR
VERSION:2.0
PRODID:-//ACG//Events//EN
CALSCALE:GREGORIAN
METHOD:PUBLISH
BEGIN:VTIMEZONE
TZID:America/Los_Angeles
BEGIN:STANDARD
DTSTART:19701025T090000
TZOFFSETTO:-0800
TZOFFSETFROM:-0700
RRULE:FREQ=YEARLY;BYMONTH=11;BYDAY=1SU
END:STANDARD
BEGIN:DAYLIGHT
DTSTART:19700426T100000
TZOFFSETTO:-0700
TZOFFSETFROM:-0800
RRULE:FREQ=YEARLY;BYMONTH=3;BYDAY=2SU
END:DAYLIGHT
END:VTIMEZONE
BEGIN:VEVENT
UID:848220d4-1d54-4151-b6d0-3236a0ff09c2
DTSTART;TZID=America/Los_Angeles:20210810T160000
DTEND;TZID=America/Los_Angeles:20210810T173000
STATUS:CONFIRMED
SUMMARY:Trends & Transactions in Cannabis Middle Market M&A
DESCRIPTION:
URL:https://www.acg.org/los-angeles/events/trends-transactions-cannabi
 s-middle-market-ma
DTSTAMP:20260424T183345Z
END:VEVENT
END:VCALENDAR
