BEGIN:VCALENDAR
VERSION:2.0
PRODID:-//ACG//Events//EN
CALSCALE:GREGORIAN
METHOD:PUBLISH
BEGIN:VTIMEZONE
TZID:America/New_York
BEGIN:STANDARD
DTSTART:19701025T060000
TZOFFSETTO:-0500
TZOFFSETFROM:-0400
RRULE:FREQ=YEARLY;BYMONTH=11;BYDAY=1SU
END:STANDARD
BEGIN:DAYLIGHT
DTSTART:19700426T070000
TZOFFSETTO:-0400
TZOFFSETFROM:-0500
RRULE:FREQ=YEARLY;BYMONTH=3;BYDAY=2SU
END:DAYLIGHT
END:VTIMEZONE
BEGIN:VEVENT
UID:5c128b93-d99f-4965-9bd2-5b8a07771d14
DTSTART;TZID=America/New_York:20211130T073000
DTEND;TZID=America/New_York:20211130T093000
STATUS:CONFIRMED
SUMMARY:ACG Atlanta: A Strong ESG Strategy to Win With Talent\, Invest
 ors\, & the Bottom Line
DESCRIPTION:
LOCATION:Buckhead Club\n3344 Peachtree Road Northeast\nAtlanta\\, GA 30326
URL:https://www.acg.org/atlanta/events/acg-atlanta-strong-esg-strategy
 -win-talent-investors-bottom-line
DTSTAMP:20260423T163125Z
END:VEVENT
END:VCALENDAR
