BEGIN:VCALENDAR
VERSION:2.0
PRODID:-//ACG//Events//EN
CALSCALE:GREGORIAN
METHOD:PUBLISH
BEGIN:VTIMEZONE
TZID:America/Chicago
BEGIN:STANDARD
DTSTART:19701025T070000
TZOFFSETTO:-0600
TZOFFSETFROM:-0500
RRULE:FREQ=YEARLY;BYMONTH=11;BYDAY=1SU
END:STANDARD
BEGIN:DAYLIGHT
DTSTART:19700426T080000
TZOFFSETTO:-0500
TZOFFSETFROM:-0600
RRULE:FREQ=YEARLY;BYMONTH=3;BYDAY=2SU
END:DAYLIGHT
END:VTIMEZONE
BEGIN:VEVENT
UID:8e64b53a-6b83-4243-93a5-9371b8932e54
DTSTART;TZID=America/Chicago:20220311T073000
DTEND;TZID=America/Chicago:20220311T091500
STATUS:CONFIRMED
SUMMARY:ACG WI: Blake Moret\, CEO\, Rockwell Automation
DESCRIPTION:
LOCATION:Italian Community Center\n631 East Chicago Street\nMilwaukee\
 \, WI 53202
URL:https://www.acg.org/wisconsin/events/acg-wi-blake-moret-ceo-rockwe
 ll-automation
DTSTAMP:20260424T172512Z
END:VEVENT
END:VCALENDAR
