BEGIN:VCALENDAR
VERSION:2.0
PRODID:-//ACG//Events//EN
CALSCALE:GREGORIAN
METHOD:PUBLISH
BEGIN:VTIMEZONE
TZID:America/Detroit
BEGIN:STANDARD
DTSTART:19700101T060000
TZOFFSETTO:-0500
TZOFFSETFROM:-0500
END:STANDARD
END:VTIMEZONE
BEGIN:VEVENT
UID:54225
DTSTART;TZID=America/Detroit:20211006T080000
DTEND;TZID=America/Detroit:20211006T090000
STATUS:CONFIRMED
SUMMARY:Breakfast Club: Members-Only Networking
DESCRIPTION:
LOCATION:Sundance Grill @ The Waters Center\, 151 Ottawa Ave. NW\, Gra
 nd Rapids\, MI\n
URL:https://www.acg.org/wmich/events/breakfast-club-members-only-networking
DTSTAMP:20260419T130803Z
END:VEVENT
END:VCALENDAR
