BEGIN:VCALENDAR
VERSION:2.0
PRODID:-//ACG//Events//EN
CALSCALE:GREGORIAN
METHOD:PUBLISH
BEGIN:VTIMEZONE
TZID:America/New_York
BEGIN:STANDARD
DTSTART:19701025T060000
TZOFFSETTO:-0500
TZOFFSETFROM:-0400
RRULE:FREQ=YEARLY;BYMONTH=11;BYDAY=1SU
END:STANDARD
BEGIN:DAYLIGHT
DTSTART:19700426T070000
TZOFFSETTO:-0400
TZOFFSETFROM:-0500
RRULE:FREQ=YEARLY;BYMONTH=3;BYDAY=2SU
END:DAYLIGHT
END:VTIMEZONE
BEGIN:VEVENT
UID:5a312c53-94aa-4aca-8a75-a5112da6126f
DTSTART;TZID=America/New_York:20220517T113000
DTEND;TZID=America/New_York:20220517T133000
STATUS:CONFIRMED
SUMMARY:14th Annual SMART Awards
DESCRIPTION:
LOCATION:The Alfond Inn\n300 East New England Avenue\nWinter Park\\, F
 L 32789
URL:https://www.acg.org/orlando/events/14th-annual-smart-awards
DTSTAMP:20260424T041511Z
END:VEVENT
END:VCALENDAR
