BEGIN:VCALENDAR
VERSION:2.0
PRODID:-//ACG//Events//EN
CALSCALE:GREGORIAN
METHOD:PUBLISH
BEGIN:VTIMEZONE
TZID:America/New_York
BEGIN:STANDARD
DTSTART:19701025T060000
TZOFFSETTO:-0500
TZOFFSETFROM:-0400
RRULE:FREQ=YEARLY;BYMONTH=11;BYDAY=1SU
END:STANDARD
BEGIN:DAYLIGHT
DTSTART:19700426T070000
TZOFFSETTO:-0400
TZOFFSETFROM:-0500
RRULE:FREQ=YEARLY;BYMONTH=3;BYDAY=2SU
END:DAYLIGHT
END:VTIMEZONE
BEGIN:VEVENT
UID:460f518e-0558-4c69-83e2-6d883b7a4ff3
DTSTART;TZID=America/New_York:20220512T120000
DTEND;TZID=America/New_York:20220512T140000
STATUS:CONFIRMED
SUMMARY:ACG South Florida Private Equity Update
DESCRIPTION:
LOCATION:Lauderdale Yacht Club\n1725 Southeast 12th Street\nFort Laude
 rdale\\, FL 33316
URL:https://www.acg.org/southflorida/events/acg-south-florida-private-
 equity-update
DTSTAMP:20260423T163951Z
END:VEVENT
END:VCALENDAR
