BEGIN:VCALENDAR
VERSION:2.0
PRODID:-//ACG//Events//EN
CALSCALE:GREGORIAN
METHOD:PUBLISH
BEGIN:VTIMEZONE
TZID:America/New_York
BEGIN:STANDARD
DTSTART:19701025T060000
TZOFFSETTO:-0500
TZOFFSETFROM:-0400
RRULE:FREQ=YEARLY;BYMONTH=11;BYDAY=1SU
END:STANDARD
BEGIN:DAYLIGHT
DTSTART:19700426T070000
TZOFFSETTO:-0400
TZOFFSETFROM:-0500
RRULE:FREQ=YEARLY;BYMONTH=3;BYDAY=2SU
END:DAYLIGHT
END:VTIMEZONE
BEGIN:VEVENT
UID:9e3464e0-040d-49e3-aa3d-82f8fa591928
DTSTART;TZID=America/New_York:20220324T173000
DTEND;TZID=America/New_York:20220324T200000
STATUS:CONFIRMED
SUMMARY:Family Office Panel in St. Petersburg
DESCRIPTION:
LOCATION:The Birchwood\n340 Beach Drive Northeast\nSt. Petersburg\\, F
 L 33701
URL:https://www.acg.org/tampabay/events/family-office-panel-st-petersburg
DTSTAMP:20260425T173847Z
END:VEVENT
END:VCALENDAR
