BEGIN:VCALENDAR
VERSION:2.0
PRODID:-//ACG//Events//EN
CALSCALE:GREGORIAN
METHOD:PUBLISH
BEGIN:VTIMEZONE
TZID:America/Chicago
BEGIN:STANDARD
DTSTART:19701025T070000
TZOFFSETTO:-0600
TZOFFSETFROM:-0500
RRULE:FREQ=YEARLY;BYMONTH=11;BYDAY=1SU
END:STANDARD
BEGIN:DAYLIGHT
DTSTART:19700426T080000
TZOFFSETTO:-0500
TZOFFSETFROM:-0600
RRULE:FREQ=YEARLY;BYMONTH=3;BYDAY=2SU
END:DAYLIGHT
END:VTIMEZONE
BEGIN:VEVENT
UID:7b4022e9-74cd-41f6-9899-bec6affa3df7
DTSTART;TZID=America/Chicago:20220518T160000
DTEND;TZID=America/Chicago:20220518T180000
STATUS:CONFIRMED
SUMMARY:May EVENING Meeting & Happy Hour| Peter Fink\, Certified Trans
 missions  -- A bootstrapped growth Story
DESCRIPTION:
LOCATION:Peter Fink Car Museum\n5808 North 90th Street\nOmaha\\, NE 68134
URL:https://www.acg.org/nebraska/events/may-evening-meeting-happy-hour
 -peter-fink-certified-transmissions-bootstrapped
DTSTAMP:20260424T115102Z
END:VEVENT
END:VCALENDAR
