BEGIN:VCALENDAR
VERSION:2.0
PRODID:-//ACG//Events//EN
CALSCALE:GREGORIAN
METHOD:PUBLISH
BEGIN:VTIMEZONE
TZID:America/Chicago
BEGIN:STANDARD
DTSTART:19701025T070000
TZOFFSETTO:-0600
TZOFFSETFROM:-0500
RRULE:FREQ=YEARLY;BYMONTH=11;BYDAY=1SU
END:STANDARD
BEGIN:DAYLIGHT
DTSTART:19700426T080000
TZOFFSETTO:-0500
TZOFFSETFROM:-0600
RRULE:FREQ=YEARLY;BYMONTH=3;BYDAY=2SU
END:DAYLIGHT
END:VTIMEZONE
BEGIN:VEVENT
UID:cb883a66-08a5-43b5-bb74-c9c8540e80b3
DTSTART;TZID=America/Chicago:20220414T163000
DTEND;TZID=America/Chicago:20220414T183000
STATUS:CONFIRMED
SUMMARY:ACG St. Louis Emerging Leaders Happy Hour at Milo's on The Hill
DESCRIPTION:
LOCATION:Milo's on the Hill\n5201 Wilson Avenue\nSt. Louis\\, MO 63110
URL:https://www.acg.org/stlouis/events/acg-st-louis-emerging-leaders-h
 appy-hour-milos-hill
DTSTAMP:20260420T204547Z
END:VEVENT
END:VCALENDAR
