BEGIN:VCALENDAR
VERSION:2.0
PRODID:-//ACG//Events//EN
CALSCALE:GREGORIAN
METHOD:PUBLISH
BEGIN:VTIMEZONE
TZID:America/New_York
BEGIN:STANDARD
DTSTART:19701025T060000
TZOFFSETTO:-0500
TZOFFSETFROM:-0400
RRULE:FREQ=YEARLY;BYMONTH=11;BYDAY=1SU
END:STANDARD
BEGIN:DAYLIGHT
DTSTART:19700426T070000
TZOFFSETTO:-0400
TZOFFSETFROM:-0500
RRULE:FREQ=YEARLY;BYMONTH=3;BYDAY=2SU
END:DAYLIGHT
END:VTIMEZONE
BEGIN:VEVENT
UID:e4d94a1b-0e52-453e-a481-cde721694a86
DTSTART;TZID=America/New_York:20220412T113000
DTEND;TZID=America/New_York:20220412T133000
STATUS:CONFIRMED
SUMMARY:ACG Boston | Women’s Connection Spring Luncheon
DESCRIPTION:
LOCATION:Offices of Foley Hoag\n155 Seaport Boulevard\nBoston\\, MA 02210
URL:https://www.acg.org/boston/events/acg-boston-womens-connection-spr
 ing-luncheon
DTSTAMP:20260422T155850Z
END:VEVENT
END:VCALENDAR
