BEGIN:VCALENDAR
VERSION:2.0
PRODID:-//ACG//Events//EN
CALSCALE:GREGORIAN
METHOD:PUBLISH
BEGIN:VTIMEZONE
TZID:America/Los_Angeles
BEGIN:STANDARD
DTSTART:19701025T090000
TZOFFSETTO:-0800
TZOFFSETFROM:-0700
RRULE:FREQ=YEARLY;BYMONTH=11;BYDAY=1SU
END:STANDARD
BEGIN:DAYLIGHT
DTSTART:19700426T100000
TZOFFSETTO:-0700
TZOFFSETFROM:-0800
RRULE:FREQ=YEARLY;BYMONTH=3;BYDAY=2SU
END:DAYLIGHT
END:VTIMEZONE
BEGIN:VEVENT
UID:d7e46e44-9f13-40ce-94c4-860285966a75
DTSTART;TZID=America/Los_Angeles:20220330T160000
DTEND;TZID=America/Los_Angeles:20220330T180000
STATUS:CONFIRMED
SUMMARY:ACG Seattle: Makers Women's History Month Event
DESCRIPTION:
LOCATION:glassybaby\, 2254 7th Ave\, Seattle\, WA  98121\n2254 7th Ave
 nue\nSeattle\\, WA 98121
URL:https://www.acg.org/seattle/events/acg-seattle-makers-womens-histo
 ry-month-event
DTSTAMP:20260425T170749Z
END:VEVENT
END:VCALENDAR
