BEGIN:VCALENDAR
VERSION:2.0
PRODID:-//ACG//Events//EN
CALSCALE:GREGORIAN
METHOD:PUBLISH
BEGIN:VTIMEZONE
TZID:America/New_York
BEGIN:STANDARD
DTSTART:19701025T060000
TZOFFSETTO:-0500
TZOFFSETFROM:-0400
RRULE:FREQ=YEARLY;BYMONTH=11;BYDAY=1SU
END:STANDARD
BEGIN:DAYLIGHT
DTSTART:19700426T070000
TZOFFSETTO:-0400
TZOFFSETFROM:-0500
RRULE:FREQ=YEARLY;BYMONTH=3;BYDAY=2SU
END:DAYLIGHT
END:VTIMEZONE
BEGIN:VEVENT
UID:53efe6c1-176b-4e91-9650-f2a0e54bcef6
DTSTART;TZID=America/New_York:20220428T160000
DTEND;TZID=America/New_York:20220428T190000
STATUS:CONFIRMED
SUMMARY:ACG Detroit | Recipes for Life:  Reflections from a Female Ent
 repreneur & Nonagenarian on 60+ Years in Business
DESCRIPTION:
LOCATION:Birmingham Country Club\n1750 Saxon Drive\nBirmingham\\, MI 48009
URL:https://www.acg.org/detroit/events/acg-detroit-recipes-life-reflec
 tions-female-entrepreneur-nonagenarian-60-years
DTSTAMP:20260425T170729Z
END:VEVENT
END:VCALENDAR
