BEGIN:VCALENDAR
VERSION:2.0
PRODID:-//ACG//Events//EN
CALSCALE:GREGORIAN
METHOD:PUBLISH
BEGIN:VTIMEZONE
TZID:America/New_York
BEGIN:STANDARD
DTSTART:19701025T060000
TZOFFSETTO:-0500
TZOFFSETFROM:-0400
RRULE:FREQ=YEARLY;BYMONTH=11;BYDAY=1SU
END:STANDARD
BEGIN:DAYLIGHT
DTSTART:19700426T070000
TZOFFSETTO:-0400
TZOFFSETFROM:-0500
RRULE:FREQ=YEARLY;BYMONTH=3;BYDAY=2SU
END:DAYLIGHT
END:VTIMEZONE
BEGIN:VEVENT
UID:22958fcf-e5c1-4f9f-8fcb-3176acb763fe
DTSTART;TZID=America/New_York:20220505T140000
DTEND;TZID=America/New_York:20220505T150000
STATUS:CONFIRMED
SUMMARY:Private Equity Operators Council Presents Interlocking Advisor
 y Consultants and Technology Throughout the Investment Lifecycle
DESCRIPTION:
URL:https://www.acg.org/events/private-equity-operators-council-presen
 ts-interlocking-advisory-consultants-and
DTSTAMP:20260423T163904Z
END:VEVENT
END:VCALENDAR
