BEGIN:VCALENDAR
VERSION:2.0
PRODID:-//ACG//Events//EN
CALSCALE:GREGORIAN
METHOD:PUBLISH
BEGIN:VTIMEZONE
TZID:America/Chicago
BEGIN:STANDARD
DTSTART:19701025T070000
TZOFFSETTO:-0600
TZOFFSETFROM:-0500
RRULE:FREQ=YEARLY;BYMONTH=11;BYDAY=1SU
END:STANDARD
BEGIN:DAYLIGHT
DTSTART:19700426T080000
TZOFFSETTO:-0500
TZOFFSETFROM:-0600
RRULE:FREQ=YEARLY;BYMONTH=3;BYDAY=2SU
END:DAYLIGHT
END:VTIMEZONE
BEGIN:VEVENT
UID:e964b5c1-c166-422b-8ed4-1f3d1830757a
DTSTART;TZID=America/Chicago:20220427T171500
DTEND;TZID=America/Chicago:20220427T204500
STATUS:CONFIRMED
SUMMARY:ACG WI | ACG Cup Final Competition 2022
DESCRIPTION:
LOCATION:Northwestern Mutual\n805 East Mason Street\nMilwaukee\\, WI 53202
URL:https://www.acg.org/wisconsin/events/acg-wi-acg-cup-final-competit
 ion-2022
DTSTAMP:20260421T120258Z
END:VEVENT
END:VCALENDAR
