BEGIN:VCALENDAR
VERSION:2.0
PRODID:-//ACG//Events//EN
CALSCALE:GREGORIAN
METHOD:PUBLISH
BEGIN:VTIMEZONE
TZID:America/New_York
BEGIN:STANDARD
DTSTART:19701025T060000
TZOFFSETTO:-0500
TZOFFSETFROM:-0400
RRULE:FREQ=YEARLY;BYMONTH=11;BYDAY=1SU
END:STANDARD
BEGIN:DAYLIGHT
DTSTART:19700426T070000
TZOFFSETTO:-0400
TZOFFSETFROM:-0500
RRULE:FREQ=YEARLY;BYMONTH=3;BYDAY=2SU
END:DAYLIGHT
END:VTIMEZONE
BEGIN:VEVENT
UID:68aee02b-e1d9-41b4-b704-deeedb467563
DTSTART;TZID=America/New_York:20220616T160000
DTEND;TZID=America/New_York:20220616T180000
STATUS:CONFIRMED
SUMMARY:ACG CT Networking Social at the Beer Garden\,  Shippan Landing
DESCRIPTION:
LOCATION:The Beer Garden at Shippan Lannding\n290 Harbor Drive\nStamfo
 rd\\, CT 06902
URL:https://www.acg.org/connecticut/events/acg-ct-networking-social-be
 er-garden-shippan-landing
DTSTAMP:20260420T105101Z
END:VEVENT
END:VCALENDAR
