BEGIN:VCALENDAR
VERSION:2.0
PRODID:-//ACG//Events//EN
CALSCALE:GREGORIAN
METHOD:PUBLISH
BEGIN:VTIMEZONE
TZID:America/New_York
BEGIN:STANDARD
DTSTART:19701025T060000
TZOFFSETTO:-0500
TZOFFSETFROM:-0400
RRULE:FREQ=YEARLY;BYMONTH=11;BYDAY=1SU
END:STANDARD
BEGIN:DAYLIGHT
DTSTART:19700426T070000
TZOFFSETTO:-0400
TZOFFSETFROM:-0500
RRULE:FREQ=YEARLY;BYMONTH=3;BYDAY=2SU
END:DAYLIGHT
END:VTIMEZONE
BEGIN:VEVENT
UID:af7324ec-27d0-4688-b584-210d9f0763af
DTSTART;TZID=America/New_York:20221018T113000
DTEND;TZID=America/New_York:20221018T133000
STATUS:CONFIRMED
SUMMARY:New Member Lunch
DESCRIPTION:
LOCATION:8401 Greensboro Dr 1st Floor Conference Room\, McLean\, VA 22
 102\n8401 Greensboro Drive\nMcLean\\, VA 22102
URL:https://www.acg.org/national-capital/events/new-member-lunch
DTSTAMP:20260424T002754Z
END:VEVENT
END:VCALENDAR
